BEGIN:VCALENDAR
VERSION:2.0
METHOD:PUBLISH
BEGIN:VEVENT
UID:461092315540
ORGANIZER:mailto:office@standort-tirol.at
SUMMARY:Besuch "The smarter E Europe" in München
DESCRIPTION:"Accelerating Integrated Energy Solutions" - dieses Ziel verfolgt The smarter E Europe, Europas größte Messeallianz für die Energiewirtschaft. Im Kontext einer zukunftsfähigen Energiewelt stehen erneuerbare Energien, Dezentralisierung und Digitalisierung sowie branchenübergreifende Lösungen für eine nachhaltige Energieversorgung 24/7 in den Sektoren Strom, Wärme und Verkehr im Fokus.
LOCATION:Messegelände München, Am Messesee 2, 81829 München (Deutschland)
CLASS:PUBLIC
DTSTART:20260624T063000
DTEND:20260624T200000
DTSTAMP:20260417T101803Z
END:VEVENT
END:VCALENDAR
