BEGIN:VCALENDAR
VERSION:2.0
METHOD:PUBLISH
BEGIN:VEVENT
UID:461092315540
ORGANIZER:mailto:office@standort-tirol.at
SUMMARY:New Work und gesunde Arbeitswelt im Tourismus & in der Hotellerie
DESCRIPTION:Der Tourismus ist eine zentrale Leitbranche in Tirol - gleichzeitig steht er vor tiefgreifenden Veränderungen in Bezug auf Arbeitswelt, Führung und Mitarbeiter:innenbindung. Das Stakeholder-Event "New Work und gesunde Arbeitswelt" bietet eine Plattform für Austausch, Vernetzung und praxisnahe Einblicke in innovative Ansätze aus der Branche.
LOCATION:Bio- und Wellnesshotel Stanglwirt, Kaiserweg 1, 6353 Going am Wilden Kaiser
CLASS:PUBLIC
DTSTART:20260512T083000
DTEND:20260512T150000
DTSTAMP:20260416T111637Z
END:VEVENT
END:VCALENDAR
