BEGIN:VCALENDAR
VERSION:2.0
METHOD:PUBLISH
BEGIN:VEVENT
UID:461092315540
ORGANIZER:mailto:office@standort-tirol.at
SUMMARY:Österreich als Partner Country auf der BayOConnect
DESCRIPTION:Die BayOConnect ist ein attraktiver Treffpunkt für Biotech, Pharma, Tech-Innovator:innen, Start-ups, Investor:innen, Wissenschaft und alle, die für Life Sciences brennen.
LOCATION:Design Offices München Macherei, Weihenstephaner Str. 12, 81673 München
CLASS:PUBLIC
DTSTART:20260629T000000
DTEND:20260702T000000
DTSTAMP:20260414T042207Z
END:VEVENT
END:VCALENDAR
